Package: BioTIP Version: 1.22.0 Command: /home/biocbuild/bbs-3.21-bioc/R/bin/R CMD build --keep-empty-dirs --no-resave-data BioTIP StartedAt: 2025-10-15 16:28:00 -0400 (Wed, 15 Oct 2025) EndedAt: 2025-10-15 16:29:28 -0400 (Wed, 15 Oct 2025) EllapsedTime: 88.1 seconds RetCode: 0 Status: OK PackageFile: BioTIP_1.22.0.tar.gz PackageFileSize: 41.36 MiB