Package: BioQC Version: 1.36.0 Command: /home/biocbuild/R/R/bin/R CMD check --install=check:BioQC.install-out.txt --library=/home/biocbuild/R/R/site-library --no-vignettes --timings BioQC_1.36.0.tar.gz StartedAt: 2025-10-14 06:57:05 -0000 (Tue, 14 Oct 2025) EndedAt: 2025-10-14 06:58:34 -0000 (Tue, 14 Oct 2025) EllapsedTime: 89.0 seconds RetCode: 0 Status: OK CheckDir: BioQC.Rcheck Warnings: 0