Package: BioNet Version: 1.68.0 Command: /Library/Frameworks/R.framework/Resources/bin/R CMD check --install=check:BioNet.install-out.txt --library=/Library/Frameworks/R.framework/Resources/library --no-vignettes --timings BioNet_1.68.0.tar.gz StartedAt: 2025-10-14 00:43:13 -0400 (Tue, 14 Oct 2025) EndedAt: 2025-10-14 00:50:01 -0400 (Tue, 14 Oct 2025) EllapsedTime: 408.2 seconds RetCode: 0 Status: OK CheckDir: BioNet.Rcheck Warnings: 0