Package: BioNERO Version: 1.16.0 Command: rm -rf BioNERO.buildbin-libdir && mkdir BioNERO.buildbin-libdir && E:\biocbuild\bbs-3.21-bioc\R\bin\R.exe CMD INSTALL --build --library=BioNERO.buildbin-libdir BioNERO_1.16.0.tar.gz StartedAt: 2025-08-15 08:52:32 -0400 (Fri, 15 Aug 2025) EndedAt: 2025-08-15 08:53:45 -0400 (Fri, 15 Aug 2025) EllapsedTime: 73.6 seconds RetCode: 0 Status: OK PackageFile: BioNERO_1.16.0.zip PackageFileSize: 3.887 MiB