Package: BioNERO Version: 1.16.3 Command: /home/biocbuild/bbs-3.21-bioc/R/bin/R CMD INSTALL BioNERO StartedAt: 2025-10-15 15:47:10 -0400 (Wed, 15 Oct 2025) EndedAt: 2025-10-15 15:47:46 -0400 (Wed, 15 Oct 2025) EllapsedTime: 36.0 seconds RetCode: 0 Status: OK