Package: BioNERO Version: 1.16.3 Command: /home/biocbuild/bbs-3.21-bioc/R/bin/R CMD check --install=check:BioNERO.install-out.txt --library=/home/biocbuild/bbs-3.21-bioc/R/site-library --timings BioNERO_1.16.3.tar.gz StartedAt: 2025-10-15 21:13:48 -0400 (Wed, 15 Oct 2025) EndedAt: 2025-10-15 21:26:36 -0400 (Wed, 15 Oct 2025) EllapsedTime: 768.0 seconds RetCode: 0 Status: OK CheckDir: BioNERO.Rcheck Warnings: 0