Package: BioNERO Version: 1.16.3 Command: /home/biocbuild/bbs-3.21-bioc/R/bin/R CMD build --keep-empty-dirs --no-resave-data BioNERO StartedAt: 2025-10-15 16:27:31 -0400 (Wed, 15 Oct 2025) EndedAt: 2025-10-15 16:32:20 -0400 (Wed, 15 Oct 2025) EllapsedTime: 289.3 seconds RetCode: 0 Status: OK PackageFile: BioNERO_1.16.3.tar.gz PackageFileSize: 4.828 MiB