Package: BioNERO Version: 1.16.3 Command: /Library/Frameworks/R.framework/Resources/bin/R CMD INSTALL BioNERO StartedAt: 2025-10-13 16:27:34 -0400 (Mon, 13 Oct 2025) EndedAt: 2025-10-13 16:28:51 -0400 (Mon, 13 Oct 2025) EllapsedTime: 77.2 seconds RetCode: 0 Status: OK