Package: BioNERO Version: 1.16.0 Command: /Library/Frameworks/R.framework/Resources/bin/R CMD build --keep-empty-dirs --no-resave-data BioNERO StartedAt: 2025-04-21 15:45:26 -0400 (Mon, 21 Apr 2025) EndedAt: 2025-04-21 15:47:51 -0400 (Mon, 21 Apr 2025) EllapsedTime: 144.7 seconds RetCode: 0 Status: OK PackageFile: BioNERO_1.16.0.tar.gz PackageFileSize: 4.92 MiB