Package: BioNAR Version: 1.10.0 Command: rm -rf BioNAR.buildbin-libdir && mkdir BioNAR.buildbin-libdir && E:\biocbuild\bbs-3.21-bioc\R\bin\R.exe CMD INSTALL --build --library=BioNAR.buildbin-libdir BioNAR_1.10.0.tar.gz StartedAt: 2025-08-15 08:52:25 -0400 (Fri, 15 Aug 2025) EndedAt: 2025-08-15 08:53:34 -0400 (Fri, 15 Aug 2025) EllapsedTime: 68.9 seconds RetCode: 0 Status: OK PackageFile: BioNAR_1.10.0.zip PackageFileSize: 3.142 MiB