Package: BioNAR Version: 1.10.0 Command: /home/biocbuild/bbs-3.21-bioc/R/bin/R CMD check --install=check:BioNAR.install-out.txt --library=/home/biocbuild/bbs-3.21-bioc/R/site-library --timings BioNAR_1.10.0.tar.gz StartedAt: 2025-10-15 21:13:47 -0400 (Wed, 15 Oct 2025) EndedAt: 2025-10-15 21:21:45 -0400 (Wed, 15 Oct 2025) EllapsedTime: 478.6 seconds RetCode: 1 Status: ERROR CheckDir: BioNAR.Rcheck Warnings: NA