Package: BioNAR Version: 1.10.0 Command: /home/biocbuild/bbs-3.21-bioc/R/bin/R CMD build --keep-empty-dirs --no-resave-data BioNAR StartedAt: 2025-10-15 16:27:30 -0400 (Wed, 15 Oct 2025) EndedAt: 2025-10-15 16:29:55 -0400 (Wed, 15 Oct 2025) EllapsedTime: 145.1 seconds RetCode: 0 Status: OK PackageFile: BioNAR_1.10.0.tar.gz PackageFileSize: 3.519 MiB