Package: BioNAR Version: 1.10.0 Command: /Library/Frameworks/R.framework/Resources/bin/R CMD check --install=check:BioNAR.install-out.txt --library=/Library/Frameworks/R.framework/Resources/library --no-vignettes --timings BioNAR_1.10.0.tar.gz StartedAt: 2025-10-14 00:41:50 -0400 (Tue, 14 Oct 2025) EndedAt: 2025-10-14 00:56:19 -0400 (Tue, 14 Oct 2025) EllapsedTime: 868.8 seconds RetCode: 1 Status: ERROR CheckDir: BioNAR.Rcheck Warnings: NA