Package: BioNAR Version: 1.10.0 Command: /home/biocbuild/R/R/bin/R CMD INSTALL BioNAR StartedAt: 2025-10-13 21:04:57 -0000 (Mon, 13 Oct 2025) EndedAt: 2025-10-13 21:05:34 -0000 (Mon, 13 Oct 2025) EllapsedTime: 37.0 seconds RetCode: 0 Status: OK