Package: BioNAR Version: 1.10.0 Command: /home/biocbuild/R/R/bin/R CMD check --install=check:BioNAR.install-out.txt --library=/home/biocbuild/R/R/site-library --no-vignettes --timings BioNAR_1.10.0.tar.gz StartedAt: 2025-10-07 07:09:02 -0000 (Tue, 07 Oct 2025) EndedAt: 2025-10-07 07:17:45 -0000 (Tue, 07 Oct 2025) EllapsedTime: 522.5 seconds RetCode: 0 Status: OK CheckDir: BioNAR.Rcheck Warnings: 0