Package: BioNAR Version: 1.10.0 Command: /home/biocbuild/R/R/bin/R CMD build --keep-empty-dirs --no-resave-data BioNAR StartedAt: 2025-10-13 23:09:31 -0000 (Mon, 13 Oct 2025) EndedAt: 2025-10-13 23:12:33 -0000 (Mon, 13 Oct 2025) EllapsedTime: 182.0 seconds RetCode: 1 Status: ERROR PackageFile: None PackageFileSize: NA