Package: BioNAR Version: 1.10.0 Command: /Library/Frameworks/R.framework/Resources/bin/R CMD build --keep-empty-dirs --no-resave-data BioNAR StartedAt: 2025-10-13 20:06:03 -0400 (Mon, 13 Oct 2025) EndedAt: 2025-10-13 20:09:08 -0400 (Mon, 13 Oct 2025) EllapsedTime: 185.1 seconds RetCode: 0 Status: OK PackageFile: BioNAR_1.10.0.tar.gz PackageFileSize: 3.674 MiB