Package: BioMVCClass Version: 1.76.0 Command: /home/biocbuild/R/R/bin/R CMD check --install=check:BioMVCClass.install-out.txt --library=/home/biocbuild/R/R/site-library --no-vignettes --timings BioMVCClass_1.76.0.tar.gz StartedAt: 2025-10-14 06:56:40 -0000 (Tue, 14 Oct 2025) EndedAt: 2025-10-14 06:57:30 -0000 (Tue, 14 Oct 2025) EllapsedTime: 49.1 seconds RetCode: 0 Status: OK CheckDir: BioMVCClass.Rcheck Warnings: 0