Package: BioCartaImage Version: 1.6.0 Command: /Library/Frameworks/R.framework/Resources/bin/R CMD INSTALL BioCartaImage StartedAt: 2025-10-13 15:07:03 -0400 (Mon, 13 Oct 2025) EndedAt: 2025-10-13 15:07:35 -0400 (Mon, 13 Oct 2025) EllapsedTime: 31.6 seconds RetCode: 0 Status: OK