Package: BioCartaImage Version: 1.6.0 Command: /Library/Frameworks/R.framework/Resources/bin/R CMD build --keep-empty-dirs --no-resave-data BioCartaImage StartedAt: 2025-10-13 17:22:58 -0400 (Mon, 13 Oct 2025) EndedAt: 2025-10-13 17:23:23 -0400 (Mon, 13 Oct 2025) EllapsedTime: 25.5 seconds RetCode: 0 Status: OK PackageFile: BioCartaImage_1.6.0.tar.gz PackageFileSize: 3.627 MiB