Package: BicARE Version: 1.66.0 Command: /home/biocbuild/R/R/bin/R CMD INSTALL BicARE StartedAt: 2025-10-13 21:02:22 -0000 (Mon, 13 Oct 2025) EndedAt: 2025-10-13 21:02:49 -0000 (Mon, 13 Oct 2025) EllapsedTime: 27.4 seconds RetCode: 0 Status: OK