Package: BiSeq Version: 1.48.1 Command: /home/biocbuild/bbs-3.21-bioc/R/bin/R CMD INSTALL BiSeq StartedAt: 2025-10-15 15:27:59 -0400 (Wed, 15 Oct 2025) EndedAt: 2025-10-15 15:28:40 -0400 (Wed, 15 Oct 2025) EllapsedTime: 40.4 seconds RetCode: 0 Status: OK