Package: BiSeq Version: 1.48.1 Command: /home/biocbuild/bbs-3.21-bioc/R/bin/R CMD check --install=check:BiSeq.install-out.txt --library=/home/biocbuild/bbs-3.21-bioc/R/site-library --timings BiSeq_1.48.1.tar.gz StartedAt: 2025-10-15 21:16:10 -0400 (Wed, 15 Oct 2025) EndedAt: 2025-10-15 21:22:30 -0400 (Wed, 15 Oct 2025) EllapsedTime: 380.5 seconds RetCode: 0 Status: OK CheckDir: BiSeq.Rcheck Warnings: 0