Package: BiSeq Version: 1.48.1 Command: /home/biocbuild/R/R/bin/R CMD check --install=check:BiSeq.install-out.txt --library=/home/biocbuild/R/R/site-library --no-vignettes --timings BiSeq_1.48.1.tar.gz StartedAt: 2025-10-14 06:58:34 -0000 (Tue, 14 Oct 2025) EndedAt: 2025-10-14 07:05:33 -0000 (Tue, 14 Oct 2025) EllapsedTime: 419.4 seconds RetCode: 0 Status: OK CheckDir: BiSeq.Rcheck Warnings: 0