Package: BiSeq Version: 1.48.1 Command: /home/biocbuild/R/R/bin/R CMD build --keep-empty-dirs --no-resave-data BiSeq StartedAt: 2025-10-13 23:12:33 -0000 (Mon, 13 Oct 2025) EndedAt: 2025-10-13 23:15:23 -0000 (Mon, 13 Oct 2025) EllapsedTime: 170.0 seconds RetCode: 0 Status: OK PackageFile: BiSeq_1.48.1.tar.gz PackageFileSize: 909.1 KiB