Package: BiGGR Version: 1.44.0 Command: /home/biocbuild/R/R/bin/R CMD INSTALL BiGGR StartedAt: 2025-10-13 20:26:51 -0000 (Mon, 13 Oct 2025) EndedAt: 2025-10-13 20:26:55 -0000 (Mon, 13 Oct 2025) EllapsedTime: 3.7 seconds RetCode: 1 Status: ERROR