Package: BiGGR Version: 1.44.0 Command: /home/biocbuild/R/R/bin/R CMD build --keep-empty-dirs --no-resave-data BiGGR StartedAt: 2025-10-13 23:03:22 -0000 (Mon, 13 Oct 2025) EndedAt: 2025-10-13 23:03:23 -0000 (Mon, 13 Oct 2025) EllapsedTime: 1.0 seconds RetCode: 1 Status: ERROR PackageFile: None PackageFileSize: NA