Package: BiFET Version: 1.28.0 Command: /Library/Frameworks/R.framework/Resources/bin/R CMD check --install=check:BiFET.install-out.txt --library=/Library/Frameworks/R.framework/Resources/library --no-vignettes --timings BiFET_1.28.0.tar.gz StartedAt: 2025-10-14 00:31:25 -0400 (Tue, 14 Oct 2025) EndedAt: 2025-10-14 00:36:39 -0400 (Tue, 14 Oct 2025) EllapsedTime: 313.7 seconds RetCode: 0 Status: OK CheckDir: BiFET.Rcheck Warnings: 0