Package: BgeeDB Version: 2.34.0 Command: /Library/Frameworks/R.framework/Resources/bin/R CMD check --install=check:BgeeDB.install-out.txt --library=/Library/Frameworks/R.framework/Resources/library --no-vignettes --timings BgeeDB_2.34.0.tar.gz StartedAt: 2025-10-14 00:30:28 -0400 (Tue, 14 Oct 2025) EndedAt: 2025-10-14 00:47:55 -0400 (Tue, 14 Oct 2025) EllapsedTime: 1046.5 seconds RetCode: 0 Status: OK CheckDir: BgeeDB.Rcheck Warnings: 0