Package: BayesSpace Version: 1.18.4 Command: /home/biocbuild/bbs-3.21-bioc/R/bin/R CMD INSTALL BayesSpace StartedAt: 2025-10-15 15:56:33 -0400 (Wed, 15 Oct 2025) EndedAt: 2025-10-15 15:57:42 -0400 (Wed, 15 Oct 2025) EllapsedTime: 69.5 seconds RetCode: 0 Status: OK