Package: BayesSpace Version: 1.18.4 Command: /home/biocbuild/bbs-3.21-bioc/R/bin/R CMD build --keep-empty-dirs --no-resave-data BayesSpace StartedAt: 2025-10-15 16:18:24 -0400 (Wed, 15 Oct 2025) EndedAt: 2025-10-15 16:21:01 -0400 (Wed, 15 Oct 2025) EllapsedTime: 157.1 seconds RetCode: 0 Status: OK PackageFile: BayesSpace_1.18.4.tar.gz PackageFileSize: 3.071 MiB