Package: BayesSpace Version: 1.18.0 Command: /Library/Frameworks/R.framework/Resources/bin/R CMD build --keep-empty-dirs --no-resave-data BayesSpace StartedAt: 2025-04-21 16:00:42 -0400 (Mon, 21 Apr 2025) EndedAt: 2025-04-21 16:02:16 -0400 (Mon, 21 Apr 2025) EllapsedTime: 94.9 seconds RetCode: 1 Status: ERROR PackageFile: None PackageFileSize: NA