Package: BayesSpace Version: 1.18.4 Command: /Library/Frameworks/R.framework/Resources/bin/R CMD INSTALL BayesSpace StartedAt: 2025-10-13 18:19:32 -0400 (Mon, 13 Oct 2025) EndedAt: 2025-10-13 18:20:46 -0400 (Mon, 13 Oct 2025) EllapsedTime: 73.2 seconds RetCode: 0 Status: OK