Package: BayesSpace Version: 1.18.4 Command: /Library/Frameworks/R.framework/Resources/bin/R CMD check --install=check:BayesSpace.install-out.txt --library=/Library/Frameworks/R.framework/Resources/library --no-vignettes --timings BayesSpace_1.18.4.tar.gz StartedAt: 2025-10-14 13:37:41 -0400 (Tue, 14 Oct 2025) EndedAt: 2025-10-14 13:42:56 -0400 (Tue, 14 Oct 2025) EllapsedTime: 314.7 seconds RetCode: 0 Status: OK CheckDir: BayesSpace.Rcheck Warnings: 0