Package: BayesSpace Version: 1.18.4 Command: rm -rf BayesSpace.buildbin-libdir && mkdir BayesSpace.buildbin-libdir && /Users/biocbuild/BBS/utils/build-universal.sh BayesSpace_1.18.4.tar.gz /Library/Frameworks/R.framework/Resources/bin/R BayesSpace.buildbin-libdir StartedAt: 2025-10-15 17:30:56 -0400 (Wed, 15 Oct 2025) EndedAt: 2025-10-15 17:32:20 -0400 (Wed, 15 Oct 2025) EllapsedTime: 83.6 seconds RetCode: 0 Status: OK PackageFile: BayesSpace_1.18.4.tgz PackageFileSize: 3.772 MiB