Package: BayesKnockdown Version: 1.34.0 Command: /home/biocbuild/bbs-3.21-bioc/R/bin/R CMD check --install=check:BayesKnockdown.install-out.txt --library=/home/biocbuild/bbs-3.21-bioc/R/site-library --timings BayesKnockdown_1.34.0.tar.gz StartedAt: 2025-10-15 21:01:13 -0400 (Wed, 15 Oct 2025) EndedAt: 2025-10-15 21:01:39 -0400 (Wed, 15 Oct 2025) EllapsedTime: 26.0 seconds RetCode: 0 Status: OK CheckDir: BayesKnockdown.Rcheck Warnings: 0