Package: BayesKnockdown Version: 1.34.0 Command: /Library/Frameworks/R.framework/Resources/bin/R CMD build --keep-empty-dirs --no-resave-data BayesKnockdown StartedAt: 2025-10-13 17:13:19 -0400 (Mon, 13 Oct 2025) EndedAt: 2025-10-13 17:13:38 -0400 (Mon, 13 Oct 2025) EllapsedTime: 19.0 seconds RetCode: 0 Status: OK PackageFile: BayesKnockdown_1.34.0.tar.gz PackageFileSize: 211.3 KiB