Package: BayesKnockdown Version: 1.34.0 Command: rm -rf BayesKnockdown.buildbin-libdir && mkdir BayesKnockdown.buildbin-libdir && /Users/biocbuild/BBS/utils/build-universal.sh BayesKnockdown_1.34.0.tar.gz /Library/Frameworks/R.framework/Resources/bin/R BayesKnockdown.buildbin-libdir StartedAt: 2025-10-14 12:52:58 -0400 (Tue, 14 Oct 2025) EndedAt: 2025-10-14 12:53:06 -0400 (Tue, 14 Oct 2025) EllapsedTime: 7.7 seconds RetCode: 0 Status: OK PackageFile: BayesKnockdown_1.34.0.tgz PackageFileSize: 226 KiB