Package: BayesKnockdown Version: 1.34.0 Command: rm -rf BayesKnockdown.buildbin-libdir && mkdir BayesKnockdown.buildbin-libdir && /Users/biocbuild/BBS/utils/build-universal.sh BayesKnockdown_1.34.0.tar.gz /Library/Frameworks/R.framework/Resources/bin/R BayesKnockdown.buildbin-libdir StartedAt: 2025-04-22 00:34:20 -0400 (Tue, 22 Apr 2025) EndedAt: 2025-04-22 00:34:28 -0400 (Tue, 22 Apr 2025) EllapsedTime: 7.8 seconds RetCode: 0 Status: OK PackageFile: BayesKnockdown_1.34.0.tgz PackageFileSize: 225.7 KiB