Package: BayesKnockdown Version: 1.34.0 Command: /home/biocbuild/R/R/bin/R CMD INSTALL BayesKnockdown StartedAt: 2025-10-13 20:23:47 -0000 (Mon, 13 Oct 2025) EndedAt: 2025-10-13 20:23:50 -0000 (Mon, 13 Oct 2025) EllapsedTime: 3.2 seconds RetCode: 0 Status: OK