Package: BayesKnockdown Version: 1.34.0 Command: /home/biocbuild/R/R/bin/R CMD build --keep-empty-dirs --no-resave-data BayesKnockdown StartedAt: 2025-10-13 22:50:03 -0000 (Mon, 13 Oct 2025) EndedAt: 2025-10-13 22:50:11 -0000 (Mon, 13 Oct 2025) EllapsedTime: 8.0 seconds RetCode: 0 Status: OK PackageFile: BayesKnockdown_1.34.0.tar.gz PackageFileSize: 204.7 KiB