Package: BayesKnockdown Version: 1.34.0 Command: /Library/Frameworks/R.framework/Resources/bin/R CMD build --keep-empty-dirs --no-resave-data BayesKnockdown StartedAt: 2025-10-13 19:40:24 -0400 (Mon, 13 Oct 2025) EndedAt: 2025-10-13 19:40:30 -0400 (Mon, 13 Oct 2025) EllapsedTime: 6.9 seconds RetCode: 0 Status: OK PackageFile: BayesKnockdown_1.34.0.tar.gz PackageFileSize: 211.6 KiB