Package: BatchQC Version: 2.4.0 Command: /Library/Frameworks/R.framework/Resources/bin/R CMD check --install=check:BatchQC.install-out.txt --library=/Library/Frameworks/R.framework/Resources/library --no-vignettes --timings BatchQC_2.4.0.tar.gz StartedAt: 2025-10-14 00:19:55 -0400 (Tue, 14 Oct 2025) EndedAt: 2025-10-14 00:34:44 -0400 (Tue, 14 Oct 2025) EllapsedTime: 889.6 seconds RetCode: 0 Status: OK CheckDir: BatchQC.Rcheck Warnings: 0