Package: BatchQC Version: 2.4.0 Command: /home/biocbuild/R/R/bin/R CMD check --install=check:BatchQC.install-out.txt --library=/home/biocbuild/R/R/site-library --no-vignettes --timings BatchQC_2.4.0.tar.gz StartedAt: 2025-10-07 06:39:01 -0000 (Tue, 07 Oct 2025) EndedAt: 2025-10-07 06:47:43 -0000 (Tue, 07 Oct 2025) EllapsedTime: 521.4 seconds RetCode: 0 Status: OK CheckDir: BatchQC.Rcheck Warnings: 0