Package: Banksy Version: 1.4.0 Command: /home/biocbuild/bbs-3.21-bioc/R/bin/R CMD INSTALL Banksy StartedAt: 2025-10-15 15:18:56 -0400 (Wed, 15 Oct 2025) EndedAt: 2025-10-15 15:19:21 -0400 (Wed, 15 Oct 2025) EllapsedTime: 25.7 seconds RetCode: 0 Status: OK