Package: Banksy Version: 1.4.0 Command: /Library/Frameworks/R.framework/Resources/bin/R CMD build --keep-empty-dirs --no-resave-data Banksy StartedAt: 2025-10-13 19:30:07 -0400 (Mon, 13 Oct 2025) EndedAt: 2025-10-13 19:39:29 -0400 (Mon, 13 Oct 2025) EllapsedTime: 561.6 seconds RetCode: 0 Status: OK PackageFile: Banksy_1.4.0.tar.gz PackageFileSize: 4.208 MiB