Package: Banksy Version: 1.4.0 Command: rm -rf Banksy.buildbin-libdir && mkdir Banksy.buildbin-libdir && /Users/biocbuild/BBS/utils/build-universal.sh Banksy_1.4.0.tar.gz /Library/Frameworks/R.framework/Resources/bin/R Banksy.buildbin-libdir StartedAt: 2025-10-15 17:29:08 -0400 (Wed, 15 Oct 2025) EndedAt: 2025-10-15 17:29:45 -0400 (Wed, 15 Oct 2025) EllapsedTime: 36.4 seconds RetCode: 0 Status: OK PackageFile: Banksy_1.4.0.tgz PackageFileSize: 4.259 MiB