Package: BadRegionFinder Version: 1.36.0 Command: rm -rf BadRegionFinder.buildbin-libdir && mkdir BadRegionFinder.buildbin-libdir && E:\biocbuild\bbs-3.21-bioc\R\bin\R.exe CMD INSTALL --build --library=BadRegionFinder.buildbin-libdir BadRegionFinder_1.36.0.tar.gz StartedAt: 2025-08-15 08:47:39 -0400 (Fri, 15 Aug 2025) EndedAt: 2025-08-15 08:48:44 -0400 (Fri, 15 Aug 2025) EllapsedTime: 65.4 seconds RetCode: 0 Status: OK PackageFile: BadRegionFinder_1.36.0.zip PackageFileSize: 813 KiB