Package: BadRegionFinder Version: 1.36.0 Command: /home/biocbuild/bbs-3.21-bioc/R/bin/R CMD INSTALL BadRegionFinder StartedAt: 2025-10-15 15:42:08 -0400 (Wed, 15 Oct 2025) EndedAt: 2025-10-15 15:42:48 -0400 (Wed, 15 Oct 2025) EllapsedTime: 40.2 seconds RetCode: 0 Status: OK