Package: BaalChIP Version: 1.34.0 Command: /Library/Frameworks/R.framework/Resources/bin/R CMD INSTALL BaalChIP StartedAt: 2025-09-29 15:44:19 -0400 (Mon, 29 Sep 2025) EndedAt: 2025-09-29 15:46:27 -0400 (Mon, 29 Sep 2025) EllapsedTime: 128.1 seconds RetCode: 0 Status: OK